{"text_format":"1","workbook":"xlsx","n_sheets":1,"sheets":["Sheet1"],"not_rendered":{"charts":0,"images":0,"macros":0,"external_links":1,"defined_names":1,"comments":0,"pivot_tables":0},"unopened":[],"bounds":{"document_bytes":16777216,"sheet_cells":100000,"rows_first":2000,"rows_last":500,"rows_between":2000,"halvings":0,"cell_chars":16384,"cell_head_chars":4096},"cells_cut":0,"cells_raw":0,"read":"whole","date_system":"1900"}

{"sheet":"Sheet1","index":0,"n_rows":66,"n_cols":5,"rows_kept":66,"cut":false,"hidden":false,"merged":[[0,0,0,1],[0,3,0,4]]}
["23 Mile Course",null,null,"18 Mile Course"]
[{"$f":"CONCATENATE([1]Times!$B87,\" \",[1]Times!$C87)","v":"Mick  Cottam"},"04:07:00",null,{"$f":"CONCATENATE([1]Times!$B97,\" \",[1]Times!$C97)","v":"Andy  Petrie"},"03:18:00"]
[{"$f":"CONCATENATE([1]Times!$B93,\" \",[1]Times!$C93)","v":"Kevin  Smith"},"04:07:00",null,{"$f":"CONCATENATE([1]Times!$B64,\" \",[1]Times!$C64)","v":"Martin Gebbett"},"03:59:00"]
[{"$f":"CONCATENATE([1]Times!$B84,\" \",[1]Times!$C84)","v":"Ben Connolly"},"04:19:00",null,{"$f":"CONCATENATE([1]Times!$B90,\" \",[1]Times!$C90)","v":"Nigel Stephenson"},"04:41:00"]
[{"$f":"CONCATENATE([1]Times!$B103,\" \",[1]Times!$C103)","v":"James Fairfied"},"04:20:00",null,{"$f":"CONCATENATE([1]Times!$B82,\" \",[1]Times!$C82)","v":"Elizabeth Connolly"},"05:16:00"]
[{"$f":"CONCATENATE([1]Times!$B30,\" \",[1]Times!$C30)","v":"Andy Adkin"},"04:26:00",null,{"$f":"CONCATENATE([1]Times!$B83,\" \",[1]Times!$C83)","v":"Elaine Leydon"},"05:16:00"]
[{"$f":"CONCATENATE([1]Times!$B91,\" \",[1]Times!$C91)","v":"Jill Davies"},"04:27:00",null,{"$f":"CONCATENATE([1]Times!$B104,\" \",[1]Times!$C104)","v":"Malcolm Bird"},"05:23:00"]
[{"$f":"CONCATENATE([1]Times!$B69,\" \",[1]Times!$C69)","v":"Simon Broughton"},"04:35:00",null,"Brenda Walker","05:23:00"]
[{"$f":"CONCATENATE([1]Times!$B78,\" \",[1]Times!$C78)","v":"Bill Crowther"},"04:35:00",null,{"$f":"CONCATENATE([1]Times!$B101,\" \",[1]Times!$C101)","v":"Diane Spencer"},"05:24:00"]
[{"$f":"CONCATENATE([1]Times!$B80,\" \",[1]Times!$C80)","v":"Matt Hutchinson"},"04:36:00",null,{"$f":"CONCATENATE([1]Times!$B102,\" \",[1]Times!$C102)","v":"John Spencer"},"05:24:00"]
[{"$f":"CONCATENATE([1]Times!$B32,\" \",[1]Times!$C32)","v":"Ben Williams"},"04:39:00",null,{"$f":"CONCATENATE([1]Times!$B61,\" \",[1]Times!$C61)","v":"John Phillips"},"05:38:00"]
[{"$f":"CONCATENATE([1]Times!$B92,\" \",[1]Times!$C92)","v":"Norman Johnson"},"04:45:00",null,{"$f":"CONCATENATE([1]Times!$B10,\" \",[1]Times!$C10)","v":"Bev McClure"},"05:46:00"]
[{"$f":"CONCATENATE([1]Times!$B62,\" \",[1]Times!$C62)","v":"Sally Howarth"},"04:47:00",null,{"$f":"CONCATENATE([1]Times!$B85,\" \",[1]Times!$C85)","v":"Raj Joshi"},"05:46:00"]
[{"$f":"CONCATENATE([1]Times!$B63,\" \",[1]Times!$C63)","v":"Steven Foster"},"04:47:00",null,{"$f":"CONCATENATE([1]Times!$B14,\" \",[1]Times!$C14)","v":"Hazel Stancliffe"},"05:58:00"]
[{"$f":"CONCATENATE([1]Times!$B45,\" \",[1]Times!$C45)","v":"Robert Hemingway"},"04:51:00",null,{"$f":"CONCATENATE([1]Times!$B23,\" \",[1]Times!$C23)","v":"Dan Moody"},"06:19:00"]
[{"$f":"CONCATENATE([1]Times!$B46,\" \",[1]Times!$C46)","v":"Alisa Cherry"},"04:51:00",null,{"$f":"CONCATENATE([1]Times!$B24,\" \",[1]Times!$C24)","v":"Jennifer Crocker"},"06:19:00"]
[{"$f":"CONCATENATE([1]Times!$B38,\" \",[1]Times!$C38)","v":"Richard Martin"},"04:53:00",null,{"$f":"CONCATENATE([1]Times!$B15,\" \",[1]Times!$C15)","v":"Helen Dickson"},"06:43:00"]
[{"$f":"CONCATENATE([1]Times!$B40,\" \",[1]Times!$C40)","v":"Ken Wyles"},"04:58:00",null,{"$f":"CONCATENATE([1]Times!$B16,\" \",[1]Times!$C16)","v":"Gary Dickson"},"06:43:00"]
[{"$f":"CONCATENATE([1]Times!$B59,\" \",[1]Times!$C59)","v":"Michelle Harle"},"05:01:00"]
[{"$f":"CONCATENATE([1]Times!$B60,\" \",[1]Times!$C60)","v":"Nils Hofmann"},"05:01:00"]
[{"$f":"CONCATENATE([1]Times!$B79,\" \",[1]Times!$C79)","v":"Stephen Halton"},"05:15:00"]
[{"$f":"CONCATENATE([1]Times!$B6,\" \",[1]Times!$C6)","v":"Madeleine Watson"},"05:18:00"]
[{"$f":"CONCATENATE([1]Times!$B35,\" \",[1]Times!$C35)","v":"Nick Ham"},"05:18:00"]
[{"$f":"CONCATENATE([1]Times!$B3,\" \",[1]Times!$C3)","v":"Samantha Hartley"},"05:20:00"]
[{"$f":"CONCATENATE([1]Times!$B7,\" \",[1]Times!$C7)","v":"Jacqueline Crowther"},"05:20:00"]
[{"$f":"CONCATENATE([1]Times!$B8,\" \",[1]Times!$C8)","v":"Elizabeth Mason"},"05:20:00"]
[{"$f":"CONCATENATE([1]Times!$B73,\" \",[1]Times!$C73)","v":"Annette Clarke"},"05:20:00"]
[{"$f":"CONCATENATE([1]Times!$B81,\" \",[1]Times!$C81)","v":"Adela Reperecki"},"05:20:00"]
[{"$f":"CONCATENATE([1]Times!$B75,\" \",[1]Times!$C75)","v":"David Smith"},"05:43:00"]
[{"$f":"CONCATENATE([1]Times!$B76,\" \",[1]Times!$C76)","v":"Colin Travis"},"05:43:00"]
[{"$f":"CONCATENATE([1]Times!$B68,\" \",[1]Times!$C68)","v":"Harry Johnson"},"05:53:00"]
[{"$f":"CONCATENATE([1]Times!$B96,\" \",[1]Times!$C96)","v":"Tony  Pummell"},"05:53:00"]
[{"$f":"CONCATENATE([1]Times!$B47,\" \",[1]Times!$C47)","v":"Frank Ives"},"05:58:00"]
[{"$f":"CONCATENATE([1]Times!$B2,\" \",[1]Times!$C2)","v":"Jenny Chapman"},"05:59:00"]
[{"$f":"CONCATENATE([1]Times!$B12,\" \",[1]Times!$C12)","v":"Dominic Sexton"},"05:59:00"]
[{"$f":"CONCATENATE([1]Times!$B13,\" \",[1]Times!$C13)","v":"Samantha Millns"},"05:59:00"]
[{"$f":"CONCATENATE([1]Times!$B88,\" \",[1]Times!$C88)","v":"Alan Gray"},"06:08:00"]
[{"$f":"CONCATENATE([1]Times!$B94,\" \",[1]Times!$C94)","v":"John Ormerod"},"06:08:00"]
[{"$f":"CONCATENATE([1]Times!$B41,\" \",[1]Times!$C41)","v":"Kathryn Finn"},"06:21:00"]
[{"$f":"CONCATENATE([1]Times!$B65,\" \",[1]Times!$C65)","v":"Roy Davies"},"06:25:00"]
[{"$f":"CONCATENATE([1]Times!$B77,\" \",[1]Times!$C77)","v":"Garry Burdin"},"06:36:00"]
[{"$f":"CONCATENATE([1]Times!$B95,\" \",[1]Times!$C95)","v":"Timothy Holmes"},"06:41:00"]
[{"$f":"CONCATENATE([1]Times!$B28,\" \",[1]Times!$C28)","v":"Dan Kidd"},"06:50:00"]
[{"$f":"CONCATENATE([1]Times!$B29,\" \",[1]Times!$C29)","v":"Linda Chilton"},"06:50:00"]
[{"$f":"CONCATENATE([1]Times!$B86,\" \",[1]Times!$C86)","v":"Dave Sheppard"},"06:53:00"]
[{"$f":"CONCATENATE([1]Times!$B53,\" \",[1]Times!$C53)","v":"Kathryn Page"},"06:58:00"]
[{"$f":"CONCATENATE([1]Times!$B58,\" \",[1]Times!$C58)","v":"Christopher John Hopkins"},"06:58:00"]
[{"$f":"CONCATENATE([1]Times!$B17,\" \",[1]Times!$C17)","v":"David Morgan"},"07:05:00"]
[{"$f":"CONCATENATE([1]Times!$B18,\" \",[1]Times!$C18)","v":"Gill Morgan"},"07:05:00"]
[{"$f":"CONCATENATE([1]Times!$B54,\" \",[1]Times!$C54)","v":"Sandy Gee"},"07:16:00"]
[{"$f":"CONCATENATE([1]Times!$B55,\" \",[1]Times!$C55)","v":"Paula Pickersgill"},"07:16:00"]
[{"$f":"CONCATENATE([1]Times!$B44,\" \",[1]Times!$C44)","v":"Michele Reynolds"},"07:21:00"]
[{"$f":"CONCATENATE([1]Times!$B26,\" \",[1]Times!$C26)","v":"John Coates"},"07:28:00"]
[{"$f":"CONCATENATE([1]Times!$B27,\" \",[1]Times!$C27)","v":"Hannah Coates"},"07:28:00"]
[{"$f":"CONCATENATE([1]Times!$B19,\" \",[1]Times!$C19)","v":"John Whitworth"},"07:30:00"]
[{"$f":"CONCATENATE([1]Times!$B20,\" \",[1]Times!$C20)","v":"Sharon Whitworth"},"07:30:00"]
[{"$f":"CONCATENATE([1]Times!$B21,\" \",[1]Times!$C21)","v":"Karen Nash"},"07:30:00"]
[{"$f":"CONCATENATE([1]Times!$B22,\" \",[1]Times!$C22)","v":"Jo Dixon"},"07:30:00"]
[{"$f":"CONCATENATE([1]Times!$B48,\" \",[1]Times!$C48)","v":"Tony Denton"},"07:35:00"]
[{"$f":"CONCATENATE([1]Times!$B49,\" \",[1]Times!$C49)","v":"Rachel Denton"},"07:35:00"]
[{"$f":"CONCATENATE([1]Times!$B99,\" \",[1]Times!$C99)","v":"Adrian Gosling"},"07:46:00"]
[{"$f":"CONCATENATE([1]Times!$B100,\" \",[1]Times!$C100)","v":"Norman Moore"},"07:46:00"]
[{"$f":"CONCATENATE([1]Times!$B89,\" \",[1]Times!$C89)","v":"Andy  Roberts"},"07:51:00"]
[{"$f":"CONCATENATE([1]Times!$B9,\" \",[1]Times!$C9)","v":"Kim Frankish"},"08:13:00"]
[{"$f":"CONCATENATE([1]Times!$B52,\" \",[1]Times!$C52)","v":"Liz Sheffield"},"08:13:00"]
[{"$f":"CONCATENATE([1]Times!$B98,\" \",[1]Times!$C98)","v":"Gerald Dentith"},"08:13:00"]