{"text_format":"1","workbook":"xlsx","n_sheets":1,"sheets":["Results"],"not_rendered":{"charts":0,"images":0,"macros":0,"external_links":1,"defined_names":1,"comments":0,"pivot_tables":0},"unopened":[],"bounds":{"document_bytes":16777216,"sheet_cells":100000,"rows_first":2000,"rows_last":500,"rows_between":2000,"halvings":0,"cell_chars":16384,"cell_head_chars":4096},"cells_cut":0,"cells_raw":0,"read":"whole","date_system":"1900"}

{"sheet":"Results","index":0,"n_rows":92,"n_cols":3,"rows_kept":92,"cut":false,"hidden":false,"merged":[]}
["Name","Mileage","Time"]
[{"$f":"[1]Times!F15","v":"Graham Ellwood"},{"$f":"[1]Times!J15","v":21},{"$f":"[1]Times!I15","v":"03:14:00"}]
[{"$f":"[1]Times!F54","v":"Dunstan Gibson"},{"$f":"[1]Times!J54","v":21},{"$f":"[1]Times!I54","v":"03:15:00"}]
[{"$f":"[1]Times!F34","v":"Christine Howard"},{"$f":"[1]Times!J34","v":21},{"$f":"[1]Times!I34","v":"03:20:00"}]
[{"$f":"[1]Times!F57","v":"Wendy Fjellstad"},{"$f":"[1]Times!J57","v":21},{"$f":"[1]Times!I57","v":"03:20:00"}]
[{"$f":"[1]Times!F7","v":"Kevin Smith"},{"$f":"[1]Times!J7","v":21},{"$f":"[1]Times!I7","v":"03:30:00"}]
[{"$f":"[1]Times!F10","v":"Isaline Kneale"},{"$f":"[1]Times!J10","v":21},{"$f":"[1]Times!I10","v":"03:33:00"}]
[{"$f":"[1]Times!F9","v":"Martyn Pollitt"},{"$f":"[1]Times!J9","v":21},{"$f":"[1]Times!I9","v":"03:33:00"}]
[{"$f":"[1]Times!F22","v":"Paul Stead"},{"$f":"[1]Times!J22","v":21},{"$f":"[1]Times!I22","v":"03:49:00"}]
[{"$f":"[1]Times!F74","v":"Geoff Holbert"},{"$f":"[1]Times!J74","v":21},{"$f":"[1]Times!I74","v":"03:55:00"}]
[{"$f":"[1]Times!F18","v":"Steve Dixon"},{"$f":"[1]Times!J18","v":21},{"$f":"[1]Times!I18","v":"04:30:00"}]
[{"$f":"[1]Times!F66","v":"Ken Wyles"},{"$f":"[1]Times!J66","v":21},{"$f":"[1]Times!I66","v":"04:47:00"}]
[{"$f":"[1]Times!F24","v":"Madeleine Watson"},{"$f":"[1]Times!J24","v":21},{"$f":"[1]Times!I24","v":"04:56:00"}]
[{"$f":"[1]Times!F35","v":"Christopher John Hopkins"},{"$f":"[1]Times!J35","v":21},{"$f":"[1]Times!I35","v":"05:10:00"}]
[{"$f":"[1]Times!F47","v":"Timothy Holmes"},{"$f":"[1]Times!J47","v":21},{"$f":"[1]Times!I47","v":"05:19:00"}]
[{"$f":"[1]Times!F58","v":"John Bell"},{"$f":"[1]Times!J58","v":21},{"$f":"[1]Times!I58","v":"05:39:00"}]
[{"$f":"[1]Times!F28","v":"John Highton"},{"$f":"[1]Times!J28","v":21},{"$f":"[1]Times!I28","v":"05:39:00"}]
[{"$f":"[1]Times!F67","v":"Jenny Wyles"},{"$f":"[1]Times!J67","v":21},{"$f":"[1]Times!I67","v":"05:42:00"}]
[{"$f":"[1]Times!F33","v":"Gerry Moore"},{"$f":"[1]Times!J33","v":21},{"$f":"[1]Times!I33","v":"05:44:00"}]
[{"$f":"[1]Times!F45","v":"Mohamed Ashaibani"},{"$f":"[1]Times!J45","v":21},{"$f":"[1]Times!I45","v":"05:44:00"}]
[{"$f":"[1]Times!F26","v":"Gordon Teal"},{"$f":"[1]Times!J26","v":21},{"$f":"[1]Times!I26","v":"05:48:00"}]
[{"$f":"[1]Times!F50","v":"Paul Tipper"},{"$f":"[1]Times!J50","v":21},{"$f":"[1]Times!I50","v":"05:49:00"}]
[{"$f":"[1]Times!F25","v":"Peter Beddows"},{"$f":"[1]Times!J25","v":21},{"$f":"[1]Times!I25","v":"05:49:00"}]
[{"$f":"[1]Times!F43","v":"Ian Smith"},{"$f":"[1]Times!J43","v":21},{"$f":"[1]Times!I43","v":"05:51:00"}]
[{"$f":"[1]Times!F46","v":"Chris Stratton"},{"$f":"[1]Times!J46","v":21},{"$f":"[1]Times!I46","v":"05:52:00"}]
[{"$f":"[1]Times!F61","v":"Ann Winn"},{"$f":"[1]Times!J61","v":21},{"$f":"[1]Times!I61","v":"06:01:00"}]
[{"$f":"[1]Times!F62","v":"Brian Winn"},{"$f":"[1]Times!J62","v":21},{"$f":"[1]Times!I62","v":"06:01:00"}]
[{"$f":"[1]Times!F3","v":"Clive Fraser"},{"$f":"[1]Times!J3","v":21},{"$f":"[1]Times!I3","v":"06:01:00"}]
[{"$f":"[1]Times!F41","v":"Mike Harford"},{"$f":"[1]Times!J41","v":21},{"$f":"[1]Times!I41","v":"06:05:00"}]
[{"$f":"[1]Times!F44","v":"Thomas Wood"},{"$f":"[1]Times!J44","v":21},{"$f":"[1]Times!I44","v":"06:10:00"}]
[{"$f":"[1]Times!F36","v":"Vera Ostojic"},{"$f":"[1]Times!J36","v":21},{"$f":"[1]Times!I36","v":"06:10:00"}]
[{"$f":"[1]Times!F13","v":"Rachel Denton"},{"$f":"[1]Times!J13","v":21},{"$f":"[1]Times!I13","v":"06:12:00"}]
[{"$f":"[1]Times!F14","v":"Tony Denton"},{"$f":"[1]Times!J14","v":21},{"$f":"[1]Times!I14","v":"06:12:00"}]
[{"$f":"[1]Times!F76","v":"Thomas Sellers"},{"$f":"[1]Times!J76","v":21},{"$f":"[1]Times!I76","v":"06:21:00"}]
[{"$f":"[1]Times!F8","v":"Adrian Gosling"},{"$f":"[1]Times!J8","v":21},{"$f":"[1]Times!I8","v":"06:23:00"}]
[{"$f":"[1]Times!F72","v":"Stephen Walker"},{"$f":"[1]Times!J72","v":21},{"$f":"[1]Times!I72","v":"06:23:00"}]
[{"$f":"[1]Times!F30","v":"Helen White"},{"$f":"[1]Times!J30","v":21},{"$f":"[1]Times!I30","v":"06:38:00"}]
[{"$f":"[1]Times!F29","v":"Nigel White"},{"$f":"[1]Times!J29","v":21},{"$f":"[1]Times!I29","v":"06:38:00"}]
[{"$f":"[1]Times!F5","v":"Frances Smith"},{"$f":"[1]Times!J5","v":21},{"$f":"[1]Times!I5","v":"07:26:00"}]
[{"$f":"[1]Times!F4","v":"Helen McGuire"},{"$f":"[1]Times!J4","v":21},{"$f":"[1]Times!I4","v":"07:26:00"}]
[{"$f":"[1]Times!F11","v":"Martin Gebbett"},{"$f":"[1]Times!J11","v":17},{"$f":"[1]Times!I11","v":"03:07:00"}]
[{"$f":"[1]Times!F21","v":"Nicky Spinks"},{"$f":"[1]Times!J21","v":17},{"$f":"[1]Times!I21","v":"04:03:00"}]
[{"$f":"[1]Times!F20","v":"Steve Wathall"},{"$f":"[1]Times!J20","v":17},{"$f":"[1]Times!I20","v":"04:03:00"}]
[{"$f":"[1]Times!F81","v":"Mick Taylor"},{"$f":"[1]Times!J81","v":17},{"$f":"[1]Times!I81","v":"04:26:00"}]
[{"$f":"[1]Times!F68","v":"Pam Baird"},{"$f":"[1]Times!J68","v":17},{"$f":"[1]Times!I68","v":"04:26:00"}]
[{"$f":"[1]Times!F82","v":"Sue Cossland-Taylor"},{"$f":"[1]Times!J82","v":17},{"$f":"[1]Times!I82","v":"04:26:00"}]
[{"$f":"[1]Times!F78","v":"Tony Ford"},{"$f":"[1]Times!J78","v":17},{"$f":"[1]Times!I78","v":"04:26:00"}]
[{"$f":"[1]Times!F53","v":"Paula Pickersgill"},{"$f":"[1]Times!J53","v":17},{"$f":"[1]Times!I53","v":"04:28:00"}]
[{"$f":"[1]Times!F52","v":"Sandy Gee"},{"$f":"[1]Times!J52","v":17},{"$f":"[1]Times!I52","v":"04:28:00"}]
[{"$f":"[1]Times!F37","v":"Ian Forbes"},{"$f":"[1]Times!J37","v":17},{"$f":"[1]Times!I37","v":"04:45:00"}]
[{"$f":"[1]Times!F42","v":"Roy Turner"},{"$f":"[1]Times!J42","v":17},{"$f":"[1]Times!I42","v":"04:45:00"}]
[{"$f":"[1]Times!F51","v":"Frank Ives"},{"$f":"[1]Times!J51","v":17},{"$f":"[1]Times!I51","v":"05:00:00"}]
[{"$f":"[1]Times!F71","v":"Julie Spencer"},{"$f":"[1]Times!J71","v":17},{"$f":"[1]Times!I71","v":"05:00:00"}]
[{"$f":"[1]Times!F16","v":"Dan Moody"},{"$f":"[1]Times!J16","v":17},{"$f":"[1]Times!I16","v":"05:24:00"}]
[{"$f":"[1]Times!F17","v":"Jennifer Crocker"},{"$f":"[1]Times!J17","v":17},{"$f":"[1]Times!I17","v":"05:24:00"}]
[{"$f":"[1]Times!F79","v":"Frank Tonge"},{"$f":"[1]Times!J79","v":17},{"$f":"[1]Times!I79","v":"05:27:00"}]
[{"$f":"[1]Times!F27","v":"Alistair Turrell"},{"$f":"[1]Times!J27","v":17},{"$f":"[1]Times!I27","v":"05:51:00"}]
[{"$f":"[1]Times!F23","v":"Liz Turrell"},{"$f":"[1]Times!J23","v":17},{"$f":"[1]Times!I23","v":"05:51:00"}]
[{"$f":"[1]Times!F83","v":"Lawrence Pinnell"},{"$f":"[1]Times!J83","v":17},{"$f":"[1]Times!I83","v":"05:56:00"}]
[{"$f":"[1]Times!F60","v":"Brian Campbell"},{"$f":"[1]Times!J60","v":17},{"$f":"[1]Times!I60","v":"05:57:00"}]
[{"$f":"[1]Times!F65","v":"Katie Handford"},{"$f":"[1]Times!J65","v":17},{"$f":"[1]Times!I65","v":"05:57:00"}]
[{"$f":"[1]Times!F59","v":"Richard Hanby"},{"$f":"[1]Times!J59","v":17},{"$f":"[1]Times!I59","v":"05:57:00"}]
[{"$f":"[1]Times!F73","v":"Karen  Jefferies"},{"$f":"[1]Times!J73","v":17},{"$f":"[1]Times!I73","v":"06:36:00"}]
[{"$f":"[1]Times!F75","v":"Melvyn Walker"},{"$f":"[1]Times!J75","v":17},{"$f":"[1]Times!I75","v":"06:39:00"}]
[{"$f":"[1]Times!F12","v":"Ian Marshall"},{"$f":"[1]Times!J12","v":13.5},{"$f":"[1]Times!I12","v":"03:48:00"}]
[{"$f":"[1]Times!F6","v":"Steve Coote"},{"$f":"[1]Times!J6","v":10},{"$f":"[1]Times!I6","v":"02:30:00"}]
[{"$f":"[1]Times!F2","v":"Paul Clarke"},{"$f":"[1]Times!J2","v":10},{"$f":"[1]Times!I2","v":"02:39:00"}]
[{"$f":"[1]Times!F39","v":"L Somersall"},{"$f":"[1]Times!J39","v":10},{"$f":"[1]Times!I39","v":"03:08:00"}]
[{"$f":"[1]Times!F40","v":"Phil Bates"},{"$f":"[1]Times!J40","v":10},{"$f":"[1]Times!I40","v":"03:08:00"}]
[{"$f":"[1]Times!F38","v":"T Padfield"},{"$f":"[1]Times!J38","v":10},{"$f":"[1]Times!I38","v":"03:08:00"}]
[{"$f":"[1]Times!F56","v":"Karen Rush"},{"$f":"[1]Times!J56","v":10},{"$f":"[1]Times!I56","v":"03:16:00"}]
[{"$f":"[1]Times!F55","v":"Norman Johnson"},{"$f":"[1]Times!J55","v":10},{"$f":"[1]Times!I55","v":"03:16:00"}]
[{"$f":"[1]Times!F19","v":"Charmian Heaton"},{"$f":"[1]Times!J19","v":10},{"$f":"[1]Times!I19","v":"03:33:00"}]
[{"$f":"[1]Times!F80","v":"Hilary Farren"},{"$f":"[1]Times!J80","v":10},{"$f":"[1]Times!I80","v":"03:34:00"}]
[{"$f":"[1]Times!F48","v":"John Hughes"},{"$f":"[1]Times!J48","v":10},{"$f":"[1]Times!I48","v":"03:36:00"}]
[{"$f":"[1]Times!F49","v":"Tom Hughes"},{"$f":"[1]Times!J49","v":10},{"$f":"[1]Times!I49","v":"03:36:00"}]
[{"$f":"[1]Times!F63","v":"Ray Owram"},{"$f":"[1]Times!J63","v":10},{"$f":"[1]Times!I63","v":"04:17:00"}]
[{"$f":"[1]Times!F64","v":"Sean Owram"},{"$f":"[1]Times!J64","v":10},{"$f":"[1]Times!I64","v":"04:17:00"}]
[{"$f":"[1]Times!F77","v":"John Haydon"},{"$f":"[1]Times!J77","v":10},{"$f":"[1]Times!I77","v":"04:20:00"}]
[{"$f":"[1]Times!F69","v":"Penny Peters"},{"$f":"[1]Times!J69","v":10},{"$f":"[1]Times!I69","v":"04:20:00"}]
[{"$f":"[1]Times!F70","v":"Susan  Green"},{"$f":"[1]Times!J70","v":10},{"$f":"[1]Times!I70","v":"04:20:00"}]
[{"$f":"[1]Times!F32","v":"Gail Mosley"},{"$f":"[1]Times!J32","v":10},{"$f":"[1]Times!I32","v":"04:42:00"}]
[{"$f":"[1]Times!F31","v":"John Mosley"},{"$f":"[1]Times!J31","v":10},{"$f":"[1]Times!I31","v":"04:42:00"}]
[{"$f":"[1]Times!F84","v":" "}]
[{"$f":"[1]Times!F85","v":" "}]
[{"$f":"[1]Times!F86","v":" "}]
[{"$f":"[1]Times!F87","v":" "}]
[{"$f":"[1]Times!F88","v":" "}]
[{"$f":"[1]Times!F89","v":" "}]
[{"$f":"[1]Times!F90","v":" "}]
[{"$f":"[1]Times!F91","v":" "}]
[{"$f":"[1]Times!F92","v":" "}]